BEGIN:VCALENDAR
VERSION:2.0
PRODID:-//Tukios.com/
BEGIN:VEVENT
UID:adb4e5b7-5566-4e40-8a9a-735ca4fb3afe@www.hillskeffington.com
DTSTAMP:20260420T201207Z
DTSTART:20260701T150000Z
DTEND:20260701T160000Z
SUMMARY:Celebration of Life
DESCRIPTION:
URL:https://www.hillskeffington.com/obituaries/cdr-william-bill-mcclintick-usn-ret
LOCATION:St. Luke’s Episcopal Church 99 Peirce Street  East Greenwich 
	RI 02818
GEO:41.6612865;-71.451618
END:VEVENT
END:VCALENDAR